BEGIN:VCALENDAR
VERSION:2.0
PRODID:-//Tukios.com/
BEGIN:VEVENT
UID:9db7b827-0ef0-4002-853c-e0110de57fe8@www.robertsonmuellerharper.com
DTSTAMP:20260424T190201Z
DTSTART:20260530T160000Z
DTEND:20260530T200000Z
SUMMARY:Celebration of Life
DESCRIPTION:
URL:https://www.robertsonmuellerharper.com/obituaries/edward-tavender
LOCATION:his residence 11704 Moran Road  Azle TX 76020
GEO:32.9407522;-97.5179132
END:VEVENT
END:VCALENDAR